BEGIN:VCALENDAR
VERSION:2.0
PRODID:icalendar-ruby
CALSCALE:GREGORIAN
METHOD:PUBLISH
BEGIN:VEVENT
DTSTAMP:20260425T003257Z
UID:13-254795@ourhomechurch.ca
DTSTART:20261010T020000Z
DTEND:20261010T040000Z
CLASS:PUBLIC
CREATED:20260424T170229
DESCRIPTION:Open to students in grades 7-12. For more information\, contact
  us to join our Next Get newsletter. For the more up-to-date information\,
  follow us on Instagram.
LAST-MODIFIED:20260424T170229
LOCATION:
SUMMARY:Friday Night Youth
URL;VALUE=URI:https://www.ourhomechurch.ca/events/friday-night-youth/2026-1
 0-09
ATTACH;FILENAME=Youth.png;FMTTYPE=image/png:https://dq5pwpg1q8ru0.cloudfron
 t.net/2026/01/15/02/33/30/a883a9c0-0273-4381-91c0-be0bb791df7d/Youth.png
END:VEVENT
END:VCALENDAR
