BEGIN:VCALENDAR
VERSION:2.0
PRODID:icalendar-ruby
CALSCALE:GREGORIAN
METHOD:PUBLISH
BEGIN:VEVENT
DTSTAMP:20260423T163420Z
UID:25-253806@ourhomechurch.ca
DTSTART:20260802T014500Z
DTEND:20260802T040000Z
CLASS:PUBLIC
CREATED:20260423T084127
DESCRIPTION:This group meets at the church. For more information\, please c
 ontact Pastor Paul.
LAST-MODIFIED:20260423T084127
LOCATION:
SUMMARY:Hong Kong HOME Group
URL;VALUE=URI:https://www.ourhomechurch.ca/events/hong-kong-home-group/2026
 -08-01
ATTACH;FILENAME=HGK.jpg;FMTTYPE=image/jpeg:https://dq5pwpg1q8ru0.cloudfront
 .net/2026/02/04/19/23/57/ef0c700b-a690-4bcc-a2c9-6e03fe2bbc85/HGK.jpg
END:VEVENT
END:VCALENDAR
