BEGIN:VCALENDAR
VERSION:2.0
PRODID:icalendar-ruby
CALSCALE:GREGORIAN
METHOD:PUBLISH
BEGIN:VEVENT
DTSTAMP:20260424T191340Z
UID:12-254530@ourhomechurch.ca
DTSTART;VALUE=DATE:20260927
DTEND;VALUE=DATE:20260927
CLASS:PUBLIC
CREATED:20260424T112652
DESCRIPTION:Join us Sundays at 9:30am (Cantonese) or 11:30am (English).
LAST-MODIFIED:20260424T112652
LOCATION:
SUMMARY:Sunday Services
URL;VALUE=URI:https://www.ourhomechurch.ca/events/sunday-services/2026-09-2
 7
ATTACH;FILENAME=Church-Sign.jpg;FMTTYPE=image/jpeg:https://dq5pwpg1q8ru0.cl
 oudfront.net/2025/12/11/01/11/05/e2b1aade-3280-48cd-84d3-41973af68469/Chur
 ch-Sign.jpg
END:VEVENT
END:VCALENDAR
